Workbook
Name _Toc120662359: 'T2 Y T3. PROBLEMA-POTENCIALIDAD'!$A$1
Name _Toc120662364: 'T7.Visión y obj des'!$A$1
Name _Toc120662365: 'T9. Análsis funcional prov '!$A$1
Name _Toc120736636: 'T6. Prioridad alta-media'!$A$1
Name _Toc120736643: 'T13. Alineación otros instrumen'!$A$1
Name _Toc120736647: 'T15. Iniciativas de articulació'!$A$1
Name cinco: 'T12. Planes-program-proyect'!$AC$5:$AC$19
Name cuatro: 'T12. Planes-program-proyect'!$AB$5:$AB$12
Name dos: 'T12. Planes-program-proyect'!$Z$5:$Z$21
Name lin_dos: 'T12. Planes-program-proyect'!$AP$5:$AP$12
Name lin_tres: 'T12. Planes-program-proyect'!$AQ$5:$AQ$16
Name lin_uno: 'T12. Planes-program-proyect'!$AO$5:$AO$19
Name MUNICIPAL: 'T2 Y T3. PROBLEMA-POTENCIALIDAD'!$V$4:$V$56
Name nueve: 'T12. Planes-program-proyect'!$AG$5:$AG$9
Name ocho: 'T12. Planes-program-proyect'!$AF$5:$AF$9
Name PARROQUIAL: 'T2 Y T3. PROBLEMA-POTENCIALIDAD'!$W$4:$W$43
Name PROVINCIAL: 'T2 Y T3. PROBLEMA-POTENCIALIDAD'!$U$4:$U$40
Name RÉGIMEN_ESPECIAL_GALÁPAGOS: 'T2 Y T3. PROBLEMA-POTENCIALIDAD'!$X$4:$X$46
Name REGIONAL: 'T2 Y T3. PROBLEMA-POTENCIALIDAD'!$T$4:$T$35
Name seis: 'T12. Planes-program-proyect'!$AD$5:$AD$17
Name siete: 'T12. Planes-program-proyect'!$AE$5:$AE$9
Name tres: 'T12. Planes-program-proyect'!$AA$5:$AA$18
Name uno: 'T12. Planes-program-proyect'!$Y$5:$Y$20

Sheet TABLA DE CONTENIDOS
A1: +++++++++++
A2: Tabla 1. Inventario de Información | B2: Preparatoria
A3: 'T2 Y T3. PROBLEMA-POTENCIALIDAD'!A1 | B3: Diagnóstico
A4: 'T4 Y T5. PRIORIZACION PROB-POTE'!A1
A5: Tabla 6. Matriz de problemas con prioridad alta o media con sus desafíos de gestión
A6: Tabla 7. Visión de desarrollo | B6: Propuesta
A7: Tabla 8. Objetivos de desarrollo
A8: Tabla 9. Análisis funcional provincial
A9: Tabla 10. Análisis funcional catonal y parroquial
A10: Tabla 11. Definición de objetivos, políticas, metas e indicadores.
A11: Tabla 12. Definición de planes programas y proyectos
A12: Tabla 13. Alineación, agendas nacionales para la igualdad, planificación territorial diferenciada, agendas de coordinación zonal
A13: Tabla 14. Matriz de consolidación de la fase de propuesta
A14: Tabla 15. Definición de iniciativas, objetivos y mecanismos de articulación | B14: Gestión
A15: Tabla 16. Formas de gestión nivel provincial y cantonal
A16: CATÁLOGO DE COMPETENCIAS Y FUNCIONES GAD
A17: ALINEACIÓN ODS - COMPETENCIA GAD
A18: AGENDAS DE IGUALDAD-GAD

Sheet T1. Inventario de información
A1: Tabla 1. Inventario de Información
A2: Código | B2: Temática | C2: Tipo de información (cartográfica, documentos, imágenes, fotos, otros) | D2: Nombre del archivo | E2: Descripción del archivo | F2: Formato de información (.doc, xls, shp….) | G2: Unidad del GAD responsable de la información | H2: Presentación análoga (impreso) o digita; | I2: Escala de información | J2: Metadato (S/N) | K2: Memoria técnica (S/N) | L2: Fuente de información: Quién genera la información, año) | M2: Disponibilidad al público (S/N) | N2: Ubicación en repositorio (Ruta y nombre del archivo con la nueva codificación confrme a sistemas) | Y2: REGIONAL
A3: CB | B3: Cartografía Base | C3: Cartográfica | D3: Cartografía | E3: Contiene la división político administrativa del Ecuador a nivel parroquial | F3: .shp | G3: Planificación | H3: digital | I3: 1:50000 | J3: si | K3: No | L3: CONALI, 2023 | M3: Si | N3: www.sni.gob.ec | Y3: PROVINCIAL
A4: AH | B4: Asentamientos Humano | C4: Cartográfica | D4: Cartografía | E4: datos de población por parroquia, género, edad. | F4: .shp | G4: Planificación | H4: digital | I4: n/a | J4: si | K4: No | L4: INEC, 2022 | M4: Si | N4: www.sni.gob.ec | Y4: MUNICIPAL
A5: BA | B5: Biofísico - Ambiental | Y5: PARROQUIAL
A6: SC | B6: Sociocultural | Y6: RÉGIMEN_ESPECIAL_GALÁPAGOS
A7: EP | B7: Económico Productivo
A8: PI | B8: Político Institucional.
A9: OI | B9: Otra Información
A12: SELECIONE EL TIPO DE GAD
A13: PARROQUIAL

Sheet T2 Y T3. PROBLEMA-POTENCIALIDAD
A1: Tabla 2. Matriz de sistematización de potencialidades Tabla 3. Matriz de sistematización de problemas
C2: Desafío
A3: Potencialidad / Problema | B3: Tipo | C3: Desafío largo plazo | D3: Desafío de gestión | E3: Competencia | F3: GAD | T3: REGIONAL | U3: PROVINCIAL | V3: MUNICIPAL | W3: PARROQUIAL | X3: RÉGIMEN ESPECIAL GALÁPAGOS
A4: Fuentes de trabajo y empleo reducidas | B4: Problema | C4: Promoción del trabajo y empleo en la parroquia | D4: Gestión el desarrollo de emprendimientos de productores locales | E4: Fomento de las actividades productivas y agropecuarias (incluye los temas de investigación, innovación y transferencia de conocimiento y tecnologías) | F4: =+'T1. Inventario de información'!$A$13 -> PARROQUIAL | N4: Problema | T4: Cooperación Internacional | U4: Cooperación Internacional | V4: Cooperación Internacional | W4: Cooperación Internacional | X4: Cooperación Internacional
A5: Escasa diversificación de la producción agropecuaria | B5: Problema | C5: Diversificación de la producción de una forma sostenible | D5: Gestión un plan productivo parroquial sostenible | E5: Fomento de las actividades productivas y agropecuarias (incluye los temas de investigación, innovación y transferencia de conocimiento y tecnologías) | F5: =+'T1. Inventario de información'!$A$13 -> PARROQUIAL | N5: Potencialidad | T5: Fomento de la seguridad alimentaria | U5: Fomento de la seguridad alimentaria | V5: Explotación de materiales áridos y pétreos | W5: Fomento de la seguridad alimentaria | X5: Fomento de la seguridad alimentaria
A6: Falta de innovación, iniciativa, liderazgo y desarrollo para diversificación de productos | B6: Problema | C6: Diversificación de la oferta y producción agropecuaria y de servicios de la parroquia | D6: Gestión con las Instituciones de Educación Superior (IES) y cooperación internacional, proyectos para diversificación de la oferta local | E6: Fomento de las actividades productivas y agropecuarias (incluye los temas de investigación, innovación y transferencia de conocimiento y tecnologías)
A7: Sector productor lechero establecido | B7: Potencialidad | C7: Comercialización de los productos lácteos derivados a nivel regional | D7: Gestión con el GAD provincial para un mecanismo de acopio y comercialización de productos lácteos | E7: Fomento de las actividades productivas y agropecuarias (incluye los temas de investigación, innovación y transferencia de conocimiento y tecnologías)
A8: Falta de acceso a mercados para comercializar productos | B8: Problema | C8: Comercialización de los productos lácteos derivados a nivel regional | D8: Gestión con el GAD provincial para un mecanismo de acopio y comercialización de productos lácteos | E8: Fomento de las actividades productivas y agropecuarias (incluye los temas de investigación, innovación y transferencia de conocimiento y tecnologías)
A9: Baja productividad agropecuaria en épocas de verano | B9: Problema | C9: Tecnificación de los usos y sistemas de riego a nivel parroquial | D9: Gestión y ampliación de la cobertura y tecnificación de riego | E9: Fomento de las actividades productivas y agropecuarias (incluye los temas de investigación, innovación y transferencia de conocimiento y tecnologías) | F9: =+'T1. Inventario de información'!$A$13 -> PARROQUIAL | T9: Fomento de las actividades productivas y agropecuarias (incluye los temas de investigación, innovación y transferencia de conocimiento y tecnologías) | U9: Fomento de las actividades productivas y agropecuarias (incluye los temas de investigación, innovación y transferencia de conocimiento y tecnologías) | V9: Fomento de la seguridad alimentaria | W9: Fomento de las actividades productivas y agropecuarias (incluye los temas de investigación, innovación y transferencia de conocimiento y tecnologías) | X9: Fomento de las actividades productivas y agropecuarias (incluye los temas de investigación, innovación y transferencia de conocimiento y tecnologías)
A10: Limitado número de atractivos y oferta turística desarticulada | B10: Problema | C10: Integración de San Gerardo a un corredor turístico regional | D10: Creación de un Plan de desarrollo económico, productivo y turístico | E10: Fomento de las actividades productivas y agropecuarias (incluye los temas de investigación, innovación y transferencia de conocimiento y tecnologías) | F10: =+'T1. Inventario de información'!$A$13 -> PARROQUIAL | T10: Gestión Ambiental | U10: Gestión Ambiental | V10: Fomento de las actividades productivas y agropecuarias (incluye los temas de investigación, innovación y transferencia de conocimiento y tecnologías) | W10: Gestión Ambiental | X10: Gestión Ambiental
A11: Ubicación en corredor vial que une atractivos turísticos de alta jerarquía | B11: Potencialidad | C11: Integración de San Gerardo a un corredor turístico regional | D11: Creación de un Plan de desarrollo económico, productivo y turístico | E11: Fomento de las actividades productivas y agropecuarias (incluye los temas de investigación, innovación y transferencia de conocimiento y tecnologías)
A12: Reducción poblacional por migración y baja tasa de natalidad | B12: Problema | C12: Reducción de la tasa de migración en la parroquia mediante la generación de oportunidades laborales | D12: Creación de un Plan de desarrollo económico, productivo y turístico | E12: Fomento de las actividades productivas y agropecuarias (incluye los temas de investigación, innovación y transferencia de conocimiento y tecnologías) | F12: =+'T1. Inventario de información'!$A$13 -> PARROQUIAL | T12: Forestación y Reforestación | U12: Forestación y Reforestación | V12: Formar y administrar catastros inmobiliarios | W12: Forestación y Reforestación | X12: Gestión de cuencas hidrográficas
A13: Presencia de monocultivos | B13: Problema | C13: Implementación de estrategias para la diversificación de cultivos y el fortalecimiento de los sistemas de producción agropecuaria. | D13: Desarrollo de talleres de fortalecimiento de los sistemas de producción agrícola y la diversificación de los productos en las comunidades | E13: Fomento de las actividades productivas y agropecuarias (incluye los temas de investigación, innovación y transferencia de conocimiento y tecnologías)
A14: Cambio de uso del suelo por avance de la frontera agrícola y pecuaria | B14: Problema | C14: Implementación de estrategias para la diversificación de cultivos y el fortalecimiento de los sistemas de producción agropecuaria. | D14: Desarrollo de un programa de gestión ambiental enfocado en buenas prácticas de producción agrícola y pecuaria y mejoramiento de semillas y pie de cría | E14: Fomento de las actividades productivas y agropecuarias (incluye los temas de investigación, innovación y transferencia de conocimiento y tecnologías)
A15: Los suelos son muy productivos para actividades agrícolas y pecuarias | B15: Potencialidad | C15: Mantenimiento de la productividad de los suelos de la parroquia | D15: Gestión de recursos técnicos y económicos para implementar un programa de conservación, restauración y manejo de suelos | E15: Fomento de las actividades productivas y agropecuarias (incluye los temas de investigación, innovación y transferencia de conocimiento y tecnologías)
A16: Presencia de heladas que afectan directamente a los cultivos y al pasto para el ganado | B16: Problema | C16: Tecnificación y fortalecimiento de los sistemas de riego en la parroquia | D16: Gestión los recursos económicos en gobiernos seccionales y nacionales para tecnificar los sistemas de riego en la parroquia | E16: Fomento de las actividades productivas y agropecuarias (incluye los temas de investigación, innovación y transferencia de conocimiento y tecnologías)
A17: La parroquia cuenta con sistemas de canales para riego en todo su territorio | B17: Potencialidad | C17: Conservación y mantenimiento de los canales de riego en toda la parroquia | D17: Mantenimientos anuales, ampliación y tecnificación de los canales de riego | E17: Riego y Drenaje
A18: Las comunidades de Cauquil alto y bajo no cuentan con fuentes hídricas que proporcionen el recurso para riego | B18: Problema | C18: Dotación de sistemas de agua de riego en las dos comunidades | D18: Gestión con el GAD municipal un plan de renovación y mantenimiento de los sistemas de agua de riego | E18: Riego y Drenaje
A19: Malnutrición y desnutrición crónica infantil | B19: Problema | C19: Erradicación de la desnutrición crónica infantil a nivel parroquial | D19: Articulación a nivel interinstitucional de mecanismos de erradicación de la desnutrición crónica infantil | E19: Protección integral a la niñez y adolescencia | F19: =+'T1. Inventario de información'!$A$13 -> PARROQUIAL | T19: Gestión de cuencas hidrográficas | U19: Gestión de cuencas hidrográficas | V19: Gestión Ambiental | W19: Gestión de cuencas hidrográficas | X19: Gestión de Riesgos
A20: Alta tasa de población de adultos mayores sin acceso a servicios de salud y cuidado | B20: Problema | C20: Mejoramiento de la cobertura de servicios y atención al adulto mayor a nivel parroquial | D20: Gestión con las instituciones pertinentes un proyecto de acompañamiento integral al adulto mayor | E20: Protección Integral de Derechos | F20: =+'T1. Inventario de información'!$A$13 -> PARROQUIAL | T20: Gestión de Riesgos | U20: Dragado, relleno hidráulico y limpieza de ríos, presas, embalses y esteros | V20: Forestación y Reforestación | W20: Gestión de Riesgos | X20: Hábitat y vivienda
A21: Incremento en la tasa de asistencia escolar en particular a nivel de bachillerato | B21: Potencialidad | C21: Incremento de la tasa de eficiencia terminal a nivel de bachillerato a nivel parroquial | D21: Gestión con instituciones públicas y privadas mecanismos de incentivos, apoyos y desarrollo productivo | E21: Protección Integral de Derechos | F21: =+'T1. Inventario de información'!$A$13 -> PARROQUIAL | T21: Hábitat y vivienda | U21: Gestión de Riesgos | V21: Gestión de cuencas hidrográficas | W21: Hábitat y vivienda | X21: Participación ciudadana
A22: Escases de personal técnico y baja permanencia con la consecuencia de discontinuidad de procesos institucionales y planificación | B22: Problema | C22: Implementación de un sistema de gestión institucional en el GAD Parroquial | D22: Elaboración e implementación de un plan estratégico institucional | E22: Planificar el desarrollo territorial y formular los correspondientes planes de ordenamiento territorial | F22: =+'T1. Inventario de información'!$A$13 -> PARROQUIAL | T22: Otorgar personalidad jurídica a organizaciones sociales | U22: Hábitat y vivienda | V22: Gestión de Riesgos | W22: Otorgar personalidad jurídica a organizaciones sociales | X22: Planificar el desarrollo territorial y formular los correspondientes planes de ordenamiento territorial
A23: Baja gestión de recursos para la implementación de la planificación | B23: Problema | C23: Mejoramiento de la eficiencia, eficacia y ejecución de la planificación | D23: Elaboración e implementación de un plan estratégico institucional | E23: Planificar el desarrollo territorial y formular los correspondientes planes de ordenamiento territorial | F23: =+'T1. Inventario de información'!$A$13 -> PARROQUIAL | T23: Participación ciudadana | U23: Otorgar personalidad jurídica a organizaciones sociales | V23: Hábitat y vivienda | W23: Participación ciudadana | X23: Gestión y uso de suelo
A24: Inadecuada asignación de funciones y roles de gestión asignados del equipo técnico | B24: Problema | C24: Mejoramiento de la eficiencia, eficacia y ejecución de la planificación | D24: Elaboración e implementación de un plan estratégico institucional | E24: Planificar el desarrollo territorial y formular los correspondientes planes de ordenamiento territorial | F24: =+'T1. Inventario de información'!$A$13 -> PARROQUIAL | T24: Planificar el desarrollo territorial y formular los correspondientes planes de ordenamiento territorial | U24: Participación ciudadana | V24: Otorgar personalidad jurídica a organizaciones sociales | W24: Planificar el desarrollo territorial y formular los correspondientes planes de ordenamiento territorial | X24: Crear, modificar, exonerar o suprimir mediante ordenanzas, tasas y contribuciones especiales de mejoras
A25: Eficiencia y compromiso del equipo técnico y político | B25: Potencialidad | C25: Mejoramiento del sistema de participación ciudadana en la parroquia | D25: Elaboración e implementación de un plan estratégico institucional | E25: Planificar el desarrollo territorial y formular los correspondientes planes de ordenamiento territorial | F25: =+'T1. Inventario de información'!$A$13 -> PARROQUIAL | T25: Preservar, mantener y difundir el patrimonio cultural | U25: Planificar el desarrollo territorial y formular los correspondientes planes de ordenamiento territorial | V25: Participación ciudadana | W25: Infraestructura física, equipamientos y espacios públicos de la parroquia rural | X25: Delimitar, regular, autorizar y controlar el uso de las playas de mar, riberas y lechos de ríos, lagos y lagunas, sin perjuicio de las limitaciones que establezca la ley
A26: Ausencia de agenda de trabajo en territorio | B26: Problema | C26: Mejoramiento del sistema de participación ciudadana en la parroquia | D26: Elaboración e implementación de un plan estratégico institucional | E26: Participación ciudadana | F26: =+'T1. Inventario de información'!$A$13 -> PARROQUIAL | T26: Prestación de servicios públicos: Agua Potable | U26: Infraestructura física, equipamientos y espacios públicos de la parroquia rural | V26: Planificar el desarrollo territorial y formular los correspondientes planes de ordenamiento territorial | W26: Preservar, mantener y difundir el patrimonio cultural | X26: Preservar y garantizar el acceso efectivo de las personas al uso de las playas de mar, riberas de ríos, lagos y lagunas
A27: Alta participación comunitaria | B27: Potencialidad | C27: Mejoramiento del sistema de participación ciudadana en la parroquia | D27: Elaboración e implementación de un plan estratégico institucional | E27: Participación ciudadana | F27: =+'T1. Inventario de información'!$A$13 -> PARROQUIAL | T27: Protección integral a la niñez y adolescencia | U27: Preservar, mantener y difundir el patrimonio cultural | V27: Gestión y uso de suelo | W27: Prestación de servicios públicos: Agua Potable | X27: Planificar, construir y mantener los espacios públicos destinados al desarrollo social, cultural y deportivo
A28: Parroquia dinamiza sus actividades socioculturales y tradiciones de forma permanente | B28: Potencialidad | C28: Consolidación de la identidad cultural y fortalecimiento del tejido social mediante la preservación y promoción de las tradiciones y actividades socioculturales de la parroquia. | D28: Coordinación y apoyo a iniciativas comunitarias, agendas culturales y espacios de participación para la promoción y sostenibilidad de las actividades socioculturales. | E28: Participación ciudadana
A29: Matriz de distribución de agua potable por cumplir su vida útil | B29: Problema | C29: Mantenimiento de la calidad del servicio de agua potable a nivel parroquial | D29: Gestión con el GAD municipal un plan de renovación y mantenimiento de los sistemas de agua potable | E29: Prestación de servicios públicos: Agua Potable | F29: =+'T1. Inventario de información'!$A$13 -> PARROQUIAL | T29: Protección Integral de Derechos | U29: Prestación de servicios públicos: Agua Potable | V29: Crear, modificar, exonerar o suprimir mediante ordenanzas, tasas y contribuciones especiales de mejoras | W29: Prestación de servicios públicos: Alcantarillado | X29: Infraestructura física, equipamientos y espacios públicos de la parroquia rural
A30: Alta cobertura de agua potable en la parroquia | B30: Potencialidad | C30: Mantenimiento de la calidad del servicio de agua potable a nivel parroquial | D30: Gestión con el GAD municipal un plan de renovación y mantenimiento de los sistemas de agua potable | E30: Prestación de servicios públicos: Agua Potable
A31: Las fuentes de agua no cuentan con sistemas de protección física | B31: Problema | C31: Protección integral y física de las fuentes de agua en toda la parroquia | D31: Gestión con el GAD municipal y la prefectura del Azuay un proyecto de protección física de las fuentes hídricas. | E31: =+E30 -> Prestación de servicios públicos: Agua Potable
A32: La mayoría de las comunidades cuentan con agua para consumo humano y de riego | B32: Potencialidad | C32: Mantenimiento de la calidad y cantidad de agua para consumo humano y riego | D32: Gestión con el GAD municipal un plan de renovación y mantenimiento de los sistemas de agua potable | E32: =+E31 -> Prestación de servicios públicos: Agua Potable
A33: Baja cobertura de servicio de tratamiento de aguas residuales en la parroquia | B33: Problema | C33: Mejoramiento de los servicios de alcantarillado y gestión de aguas residuales en la parroquia | D33: Gestión con el GAD municipal de Girón la ampliación y mejoramiento de recolección y tratamiento de aguas residuales | E33: Prestación de servicios públicos: Depuración de aguas residuales | F33: =+'T1. Inventario de información'!$A$13 -> PARROQUIAL | T33: Tránsito, Transporte Terrestre y Seguridad Vial | U33: Prevención, protección, socorro y extinción de incendios | V33: Delimitar, regular, autorizar y controlar el uso de las playas de mar, riberas y lechos de ríos, lagos y lagunas, sin perjuicio de las limitaciones que establezca la ley | W33: Prestación de servicios públicos: Depuración de aguas residuales | X33: Prestación de servicios públicos: Agua Potable
A34: La parroquia cuenta con una planta de tratamiento de aguas residuales | B34: Potencialidad | C34: Mantenimiento de la planta de tratamiento funcionando de manera eficiente | D34: Mantenimientos anuales para que funcione de manera eficiente de las plantas de tratamiento de aguas residuales | E34: =+E33 -> Prestación de servicios públicos: Depuración de aguas residuales
A35: Quema de desechos sólidos en comunidades rurales por baja cobertura de servicio de recolección | B35: Problema | C35: Ampliación de la cobertura del servicio de recolección de desechos sólidos a nivel parroquial | D35: Gestión con el GAD municipal de Girón la ampliación y mejoramiento del sistema de recolección de residuos sólidos | E35: Prestación de servicios públicos: Desechos Sólidos | F35: =+'T1. Inventario de información'!$A$13 -> PARROQUIAL | T35: Vialidad | U35: Protección integral a la niñez y adolescencia | V35: Preservar y garantizar el acceso efectivo de las personas al uso de las playas de mar, riberas de ríos, lagos y lagunas | W35: Prestación de servicios públicos: Desechos Sólidos | X35: Prestación de servicios públicos: Alcantarillado
A36: Buena cobertura de recolección de desechos sólidos parroquial | B36: Potencialidad | C36: Ampliación de la cobertura del servicio de recolección de desechos sólidos a nivel parroquial | D36: Gestión con el GAD municipal de Girón la ampliación y mejoramiento del sistema de recolección de residuos sólidos | E36: Prestación de servicios públicos: Desechos Sólidos
A37: Requerimiento de mantenimiento permanente de vías de lastre y tierra, mismas que representan la mayor proporción de la red vial parroquial | B37: Problema | C37: Mantenimiento del buen estado las vías de la parroquia | D37: Gestión con el GAD provincial el mantenimiento permanente de la red vial | E37: Vialidad | F37: =+'T1. Inventario de información'!$A$13 -> PARROQUIAL | U37: Protección Integral de Derechos | V37: Planificar, construir y mantener los espacios públicos destinados al desarrollo social, cultural y deportivo | W37: Prestación de servicios públicos: Saneamiento Ambiental | X37: Prestación de servicios públicos: Depuración de aguas residuales
A38: Buena cobertura y conectividad de la red vial a nivel parroquial | B38: Potencialidad | C38: Mantenimiento del buen estado las vías de la parroquia | D38: Gestión con el GAD provincial el mantenimiento permanente de la red vial | E38: Vialidad
A39: Bajo mantenimiento de los equipamientos de la parroquia | B39: Problema | C39: Mantenimiento en óptimas condiciones los equipamientos a nivel parroquial | D39: Implementación de un programa de mantenimiento de los equipamientos a nivel parroquial | E39: Infraestructura física, equipamientos y espacios públicos de la parroquia rural | F39: =+'T1. Inventario de información'!$A$13 -> PARROQUIAL | U39: Riego y Drenaje | V39: Infraestructura física, equipamientos y espacios públicos de la parroquia rural | W39: Protección integral a la niñez y adolescencia | X39: Prestación de servicios públicos: Desechos Sólidos
A40: Buena dotación de equipamientos a nivel parroquial | B40: Potencialidad | C40: Mantenimiento en óptimas condiciones los equipamientos a nivel parroquial | D40: Implementación de un programa de mantenimiento de los equipamientos a nivel parroquial | E40: Infraestructura física, equipamientos y espacios públicos de la parroquia rural | F40: =+'T1. Inventario de información'!$A$13 -> PARROQUIAL | U40: Vialidad | V40: Planificar, construir y mantener la Infraestructura y equipamientos físicos de salud y educación | W40: Protección Integral de Derechos | X40: Prestación de servicios públicos: Saneamiento Ambiental
...

Sheet T4 Y T5. PRIORIZACION PROB-POTE
A1: Tabla 4. Herramienta para la priorización de potencialidades Tabla 5. Herramienta para la priorización de problemas
C2: Criterios de priorización
A3: Potencialidades / Problemas | B3: Tipo | C3: Apoyo de sectores involucrados | D3: Urgencia | E3: Ámbito territorial | F3: Capacidad institucional | G3: Competencia exclusiva o concurrente | H3: Sumatoria | I3: Valoración total (alta, media, baja)
A4: ='T2 Y T3. PROBLEMA-POTENCIALIDAD'!A4 -> Fuentes de trabajo y empleo reducidas | B4: Problema | C4: 15 | D4: 19 | E4: 19 | F4: 5 | G4: 5 | H4: =IF(SUM(C4:G4)<=100, SUM(C4:G4), "ERROR:La sumatoria debe ser menor o igual a 100") -> 63 | I4: =IF(H4=0,"",IF(H4<33,"BAJA",IF(H4<=66,"MEDIA","ALTA"))) -> MEDIA | J4: =IF(I4="Alta",1,IF(I4="Media",1,2)) -> 1
A5: ='T2 Y T3. PROBLEMA-POTENCIALIDAD'!A5 -> Escasa diversificación de la producción agropecuaria | B5: Problema | C5: 15 | D5: 19 | E5: 19 | F5: 5 | G5: 5 | H5: =IF(SUM(C5:G5)<=100, SUM(C5:G5), "ERROR:La sumatoria debe ser menor o igual a 100") -> 63 | I5: =IF(H5=0,"",IF(H5<33,"BAJA",IF(H5<=66,"MEDIA","ALTA"))) -> MEDIA | J5: =IF(I5="Alta",1,IF(I5="Media",1,2)) -> 1
A6: ='T2 Y T3. PROBLEMA-POTENCIALIDAD'!A6 -> Falta de innovación, iniciativa, liderazgo y desarrollo para diversificación de productos | B6: Problema | C6: 15 | D6: 19 | E6: 19 | F6: 5 | G6: 5 | H6: =IF(SUM(C6:G6)<=100, SUM(C6:G6), "ERROR:La sumatoria debe ser menor o igual a 100") -> 63 | I6: =IF(H6=0,"",IF(H6<33,"BAJA",IF(H6<=66,"MEDIA","ALTA"))) -> MEDIA | J6: =IF(I6="Alta",1,IF(I6="Media",1,2)) -> 1
A7: ='T2 Y T3. PROBLEMA-POTENCIALIDAD'!A7 -> Sector productor lechero establecido | B7: Potencialidad | C7: 15 | D7: 19 | E7: 19 | F7: 5 | G7: 5 | H7: =IF(SUM(C7:G7)<=100, SUM(C7:G7), "ERROR:La sumatoria debe ser menor o igual a 100") -> 63 | I7: =IF(H7=0,"",IF(H7<33,"BAJA",IF(H7<=66,"MEDIA","ALTA"))) -> MEDIA | J7: =IF(I7="Alta",1,IF(I7="Media",1,2)) -> 1
A8: ='T2 Y T3. PROBLEMA-POTENCIALIDAD'!A8 -> Falta de acceso a mercados para comercializar productos | B8: Problema | C8: 15 | D8: 19 | E8: 19 | F8: 5 | G8: 5 | H8: =IF(SUM(C8:G8)<=100, SUM(C8:G8), "ERROR:La sumatoria debe ser menor o igual a 100") -> 63 | I8: =IF(H8=0,"",IF(H8<33,"BAJA",IF(H8<=66,"MEDIA","ALTA"))) -> MEDIA | J8: =IF(I8="Alta",1,IF(I8="Media",1,2)) -> 1
A9: ='T2 Y T3. PROBLEMA-POTENCIALIDAD'!A9 -> Baja productividad agropecuaria en épocas de verano | B9: Problema | C9: 15 | D9: 19 | E9: 19 | F9: 5 | G9: 5 | H9: =IF(SUM(C9:G9)<=100, SUM(C9:G9), "ERROR:La sumatoria debe ser menor o igual a 100") -> 63 | I9: =IF(H9=0,"",IF(H9<33,"BAJA",IF(H9<=66,"MEDIA","ALTA"))) -> MEDIA | J9: =IF(I9="Alta",1,IF(I9="Media",1,2)) -> 1
A10: ='T2 Y T3. PROBLEMA-POTENCIALIDAD'!A10 -> Limitado número de atractivos y oferta turística desarticulada | B10: Problema | C10: 15 | D10: 19 | E10: 19 | F10: 5 | G10: 5 | H10: =IF(SUM(C10:G10)<=100, SUM(C10:G10), "ERROR:La sumatoria debe ser menor o igual a 100") -> 63 | I10: =IF(H10=0,"",IF(H10<33,"BAJA",IF(H10<=66,"MEDIA","ALTA"))) -> MEDIA | J10: =IF(I10="Alta",1,IF(I10="Media",1,2)) -> 1
A11: ='T2 Y T3. PROBLEMA-POTENCIALIDAD'!A11 -> Ubicación en corredor vial que une atractivos turísticos de alta jerarquía | B11: Potencialidad | C11: 15 | D11: 19 | E11: 19 | F11: 5 | G11: 5 | H11: =IF(SUM(C11:G11)<=100, SUM(C11:G11), "ERROR:La sumatoria debe ser menor o igual a 100") -> 63 | I11: =IF(H11=0,"",IF(H11<33,"BAJA",IF(H11<=66,"MEDIA","ALTA"))) -> MEDIA | J11: =IF(I11="Alta",1,IF(I11="Media",1,2)) -> 1
A12: ='T2 Y T3. PROBLEMA-POTENCIALIDAD'!A12 -> Reducción poblacional por migración y baja tasa de natalidad | B12: Problema | C12: 10 | D12: 20 | E12: 20 | F12: 5 | G12: 5 | H12: =IF(SUM(C12:G12)<=100, SUM(C12:G12), "ERROR:La sumatoria debe ser menor o igual a 100") -> 60 | I12: =IF(H12=0,"",IF(H12<33,"BAJA",IF(H12<=66,"MEDIA","ALTA"))) -> MEDIA | J12: =IF(I12="Alta",1,IF(I12="Media",1,2)) -> 1
A13: ='T2 Y T3. PROBLEMA-POTENCIALIDAD'!A13 -> Presencia de monocultivos | B13: Problema | C13: 15 | D13: 18 | E13: 15 | F13: 10 | G13: 10 | H13: =IF(SUM(C13:G13)<=100, SUM(C13:G13), "ERROR:La sumatoria debe ser menor o igual a 100") -> 68 | I13: =IF(H13=0,"",IF(H13<33,"BAJA",IF(H13<=66,"MEDIA","ALTA"))) -> ALTA | J13: =IF(I13="Alta",1,IF(I13="Media",1,2)) -> 1
A14: ='T2 Y T3. PROBLEMA-POTENCIALIDAD'!A14 -> Cambio de uso del suelo por avance de la frontera agrícola y pecuaria | B14: Problema | C14: 15 | D14: 20 | E14: 15 | F14: 10 | G14: 10 | H14: =IF(SUM(C14:G14)<=100, SUM(C14:G14), "ERROR:La sumatoria debe ser menor o igual a 100") -> 70 | I14: =IF(H14=0,"",IF(H14<33,"BAJA",IF(H14<=66,"MEDIA","ALTA"))) -> ALTA | J14: =IF(I14="Alta",1,IF(I14="Media",1,2)) -> 1
A15: ='T2 Y T3. PROBLEMA-POTENCIALIDAD'!A15 -> Los suelos son muy productivos para actividades agrícolas y pecuarias | B15: Potencialidad | C15: 15 | D15: 15 | E15: 15 | F15: 10 | G15: 10 | H15: =IF(SUM(C15:G15)<=100, SUM(C15:G15), "ERROR:La sumatoria debe ser menor o igual a 100") -> 65 | I15: =IF(H15=0,"",IF(H15<33,"BAJA",IF(H15<=66,"MEDIA","ALTA"))) -> MEDIA | J15: =IF(I15="Alta",1,IF(I15="Media",1,2)) -> 1
... A17: ='T2 Y T3. PROBLEMA-POTENCIALIDAD'!A17 -> La parroquia cuenta con sistemas de canales para riego en todo su territorio | B17: Potencialidad | C17: 15 | D17: 15 | E17: 15 | F17: 10 | G17: 10 | H17: =IF(SUM(C17:G17)<=100, SUM(C17:G17), "ERROR:La sumatoria debe ser menor o igual a 100") -> 65 | I17: =IF(H17=0,"",IF(H17<33,"BAJA",IF(H17<=66,"MEDIA","ALTA"))) -> MEDIA | J17: =IF(I17="Alta",1,IF(I17="Media",1,2)) -> 1
A18: ='T2 Y T3. PROBLEMA-POTENCIALIDAD'!A18 -> Las comunidades de Cauquil alto y bajo no cuentan con fuentes hídricas que proporcionen el recurso para riego | B18: Problema | C18: 15 | D18: 20 | E18: 15 | F18: 15 | G18: 15 | H18: =IF(SUM(C18:G18)<=100, SUM(C18:G18), "ERROR:La sumatoria debe ser menor o igual a 100") -> 80 | I18: =IF(H18=0,"",IF(H18<33,"BAJA",IF(H18<=66,"MEDIA","ALTA"))) -> ALTA
A19: ='T2 Y T3. PROBLEMA-POTENCIALIDAD'!A19 -> Malnutrición y desnutrición crónica infantil | B19: Problema | C19: 10 | D19: 15 | E19: 20 | F19: 15 | G19: 15 | H19: =IF(SUM(C19:G19)<=100, SUM(C19:G19), "ERROR:La sumatoria debe ser menor o igual a 100") -> 75 | I19: =IF(H19=0,"",IF(H19<33,"BAJA",IF(H19<=66,"MEDIA","ALTA"))) -> ALTA | J19: =IF(I19="Alta",1,IF(I19="Media",1,2)) -> 1
A20: ='T2 Y T3. PROBLEMA-POTENCIALIDAD'!A20 -> Alta tasa de población de adultos mayores sin acceso a servicios de salud y cuidado | B20: Problema | C20: 10 | D20: 15 | E20: 20 | F20: 15 | G20: 15 | H20: =IF(SUM(C20:G20)<=100, SUM(C20:G20), "ERROR:La sumatoria debe ser menor o igual a 100") -> 75 | I20: =IF(H20=0,"",IF(H20<33,"BAJA",IF(H20<=66,"MEDIA","ALTA"))) -> ALTA
A21: ='T2 Y T3. PROBLEMA-POTENCIALIDAD'!A21 -> Incremento en la tasa de asistencia escolar en particular a nivel de bachillerato | B21: Potencialidad | C21: 10 | D21: 15 | E21: 20 | F21: 15 | G21: 15 | H21: =IF(SUM(C21:G21)<=100, SUM(C21:G21), "ERROR:La sumatoria debe ser menor o igual a 100") -> 75 | I21: =IF(H21=0,"",IF(H21<33,"BAJA",IF(H21<=66,"MEDIA","ALTA"))) -> ALTA | J21: =IF(I21="Alta",1,IF(I21="Media",1,2)) -> 1
A22: ='T2 Y T3. PROBLEMA-POTENCIALIDAD'!A22 -> Escases de personal técnico y baja permanencia con la consecuencia de discontinuidad de procesos institucionales y planificación | B22: Problema | C22: 10 | D22: 15 | E22: 15 | F22: 10 | G22: 10 | H22: =IF(SUM(C22:G22)<=100, SUM(C22:G22), "ERROR:La sumatoria debe ser menor o igual a 100") -> 60 | I22: =IF(H22=0,"",IF(H22<33,"BAJA",IF(H22<=66,"MEDIA","ALTA"))) -> MEDIA | J22: =IF(I22="Alta",1,IF(I22="Media",1,2)) -> 1
A23: ='T2 Y T3. PROBLEMA-POTENCIALIDAD'!A23 -> Baja gestión de recursos para la implementación de la planificación | B23: Problema | C23: 15 | D23: 15 | E23: 20 | F23: 15 | G23: 10 | H23: =IF(SUM(C23:G23)<=100, SUM(C23:G23), "ERROR:La sumatoria debe ser menor o igual a 100") -> 75 | I23: =IF(H23=0,"",IF(H23<33,"BAJA",IF(H23<=66,"MEDIA","ALTA"))) -> ALTA | J23: =IF(I23="Alta",1,IF(I23="Media",1,2)) -> 1
A24: ='T2 Y T3. PROBLEMA-POTENCIALIDAD'!A24 -> Inadecuada asignación de funciones y roles de gestión asignados del equipo técnico | B24: Problema | C24: 15 | D24: 10 | E24: 15 | F24: 10 | G24: 10 | H24: =IF(SUM(C24:G24)<=100, SUM(C24:G24), "ERROR:La sumatoria debe ser menor o igual a 100") -> 60 | I24: =IF(H24=0,"",IF(H24<33,"BAJA",IF(H24<=66,"MEDIA","ALTA"))) -> MEDIA | J24: =IF(I24="Alta",1,IF(I24="Media",1,2)) -> 1
A25: ='T2 Y T3. PROBLEMA-POTENCIALIDAD'!A25 -> Eficiencia y compromiso del equipo técnico y político | B25: Potencialidad | C25: 10 | D25: 15 | E25: 20 | F25: 15 | G25: 15 | H25: =IF(SUM(C25:G25)<=100, SUM(C25:G25), "ERROR:La sumatoria debe ser menor o igual a 100") -> 75 | I25: =IF(H25=0,"",IF(H25<33,"BAJA",IF(H25<=66,"MEDIA","ALTA"))) -> ALTA | J25: =IF(I25="Alta",1,IF(I25="Media",1,2)) -> 1
A26: ='T2 Y T3. PROBLEMA-POTENCIALIDAD'!A26 -> Ausencia de agenda de trabajo en territorio | B26: Problema | C26: 15 | D26: 15 | E26: 15 | F26: 15 | G26: 15 | H26: =IF(SUM(C26:G26)<=100, SUM(C26:G26), "ERROR:La sumatoria debe ser menor o igual a 100") -> 75 | I26: =IF(H26=0,"",IF(H26<33,"BAJA",IF(H26<=66,"MEDIA","ALTA"))) -> ALTA | J26: =IF(I26="Alta",1,IF(I26="Media",1,2)) -> 1
A27: ='T2 Y T3. PROBLEMA-POTENCIALIDAD'!A27 -> Alta participación comunitaria | B27: Potencialidad | C27: 10 | D27: 15 | E27: 20 | F27: 15 | G27: 15 | H27: =IF(SUM(C27:G27)<=100, SUM(C27:G27), "ERROR:La sumatoria debe ser menor o igual a 100") -> 75 | I27: =IF(H27=0,"",IF(H27<33,"BAJA",IF(H27<=66,"MEDIA","ALTA"))) -> ALTA | J27: =IF(I27="Alta",1,IF(I27="Media",1,2)) -> 1
A28: ='T2 Y T3. PROBLEMA-POTENCIALIDAD'!A28 -> Parroquia dinamiza sus actividades socioculturales y tradiciones de forma permanente | B28: Potencialidad | C28: 15 | D28: 10 | E28: 15 | F28: 10 | G28: 10 | H28: =IF(SUM(C28:G28)<=100, SUM(C28:G28), "ERROR:La sumatoria debe ser menor o igual a 100") -> 60 | I28: =IF(H28=0,"",IF(H28<33,"BAJA",IF(H28<=66,"MEDIA","ALTA"))) -> MEDIA | J28: =IF(I28="Alta",1,IF(I28="Media",1,2)) -> 1
A29: ='T2 Y T3. PROBLEMA-POTENCIALIDAD'!A29 -> Matriz de distribución de agua potable por cumplir su vida útil | B29: Problema | C29: 15 | D29: 10 | E29: 15 | F29: 10 | G29: 10 | H29: =IF(SUM(C29:G29)<=100, SUM(C29:G29), "ERROR:La sumatoria debe ser menor o igual a 100") -> 60 | I29: =IF(H29=0,"",IF(H29<33,"BAJA",IF(H29<=66,"MEDIA","ALTA"))) -> MEDIA | J29: =IF(I29="Alta",1,IF(I29="Media",1,2)) -> 1
A30: ='T2 Y T3. PROBLEMA-POTENCIALIDAD'!A30 -> Alta cobertura de agua potable en la parroquia | B30: Potencialidad | C30: 15 | D30: 10 | E30: 15 | F30: 10 | G30: 10 | H30: =IF(SUM(C30:G30)<=100, SUM(C30:G30), "ERROR:La sumatoria debe ser menor o igual a 100") -> 60 | I30: =IF(H30=0,"",IF(H30<33,"BAJA",IF(H30<=66,"MEDIA","ALTA"))) -> MEDIA | J30: =IF(I30="Alta",1,IF(I30="Media",1,2)) -> 1
A31: ='T2 Y T3. PROBLEMA-POTENCIALIDAD'!A31 -> Las fuentes de agua no cuentan con sistemas de protección física | B31: Problema | C31: 15 | D31: 20 | E31: 15 | F31: 10 | G31: 10 | H31: =IF(SUM(C31:G31)<=100, SUM(C31:G31), "ERROR:La sumatoria debe ser menor o igual a 100") -> 70 | I31: =IF(H31=0,"",IF(H31<33,"BAJA",IF(H31<=66,"MEDIA","ALTA"))) -> ALTA | J31: =IF(I31="Alta",1,IF(I31="Media",1,2)) -> 1
A32: ='T2 Y T3. PROBLEMA-POTENCIALIDAD'!A32 -> La mayoría de las comunidades cuentan con agua para consumo humano y de riego | B32: Potencialidad | C32: 15 | D32: 15 | E32: 15 | F32: 10 | G32: 10 | H32: =IF(SUM(C32:G32)<=100, SUM(C32:G32), "ERROR:La sumatoria debe ser menor o igual a 100") -> 65 | I32: =IF(H32=0,"",IF(H32<33,"BAJA",IF(H32<=66,"MEDIA","ALTA"))) -> MEDIA | J32: =IF(I32="Alta",1,IF(I32="Media",1,2)) -> 1
... A35: ='T2 Y T3. PROBLEMA-POTENCIALIDAD'!A35 -> Quema de desechos sólidos en comunidades rurales por baja cobertura de servicio de recolección | B35: Problema | C35: 10 | D35: 15 | E35: 15 | F35: 10 | G35: 10 | H35: =IF(SUM(C35:G35)<=100, SUM(C35:G35), "ERROR:La sumatoria debe ser menor o igual a 100") -> 60 | I35: =IF(H35=0,"",IF(H35<33,"BAJA",IF(H35<=66,"MEDIA","ALTA"))) -> MEDIA | J35: =IF(I35="Alta",1,IF(I35="Media",1,2)) -> 1
A36: ='T2 Y T3. PROBLEMA-POTENCIALIDAD'!A36 -> Buena cobertura de recolección de desechos sólidos parroquial | B36: Potencialidad | C36: 15 | D36: 10 | E36: 15 | F36: 10 | G36: 10 | H36: =IF(SUM(C36:G36)<=100, SUM(C36:G36), "ERROR:La sumatoria debe ser menor o igual a 100") -> 60 | I36: =IF(H36=0,"-",IF(H36<33,"BAJA",IF(H36<=66,"MEDIA","ALTA"))) -> MEDIA | J36: =IF(I36="Alta",1,IF(I36="Media",1,2)) -> 1
A37: ='T2 Y T3. PROBLEMA-POTENCIALIDAD'!A37 -> Requerimiento de mantenimiento permanente de vías de lastre y tierra, mismas que representan la mayor proporción de la red vial parroquial | B37: Problema | C37: 15 | D37: 15 | E37: 20 | F37: 15 | G37: 10 | H37: =IF(SUM(C37:G37)<=100, SUM(C37:G37), "ERROR:La sumatoria debe ser menor o igual a 100") -> 75 | I37: =IF(H37=0,"",IF(H37<33,"BAJA",IF(H37<=66,"MEDIA","ALTA"))) -> ALTA | J37: =IF(I37="Alta",1,IF(I37="Media",1,2)) -> 1
A38: ='T2 Y T3. PROBLEMA-POTENCIALIDAD'!A38 -> Buena cobertura y conectividad de la red vial a nivel parroquial | B38: Potencialidad | C38: 15 | D38: 15 | E38: 20 | F38: 15 | G38: 10 | H38: =IF(SUM(C38:G38)<=100, SUM(C38:G38), "ERROR:La sumatoria debe ser menor o igual a 100") -> 75 | I38: =IF(H38=0,"",IF(H38<33,"BAJA",IF(H38<=66,"MEDIA","ALTA"))) -> ALTA | J38: =IF(I38="Alta",1,IF(I38="Media",1,2)) -> 1
A39: ='T2 Y T3. PROBLEMA-POTENCIALIDAD'!A39 -> Bajo mantenimiento de los equipamientos de la parroquia | B39: Problema | C39: 15 | D39: 15 | E39: 15 | F39: 15 | G39: 15 | H39: =IF(SUM(C39:G39)<=100, SUM(C39:G39), "ERROR:La sumatoria debe ser menor o igual a 100") -> 75 | I39: =IF(H39=0,"",IF(H39<33,"BAJA",IF(H39<=66,"MEDIA","ALTA"))) -> ALTA | J39: =IF(I39="Alta",1,IF(I39="Media",1,2)) -> 1
A40: ='T2 Y T3. PROBLEMA-POTENCIALIDAD'!A40 -> Buena dotación de equipamientos a nivel parroquial | B40: Potencialidad | C40: 15 | D40: 15 | E40: 15 | F40: 15 | G40: 15 | H40: =IF(SUM(C40:G40)<=100, SUM(C40:G40), "ERROR:La sumatoria debe ser menor o igual a 100") -> 75 | I40: =IF(H40=0,"",IF(H40<33,"BAJA",IF(H40<=66,"MEDIA","ALTA"))) -> ALTA | J40: =IF(I40="Alta",1,IF(I40="Media",1,2)) -> 1
A41: ='T2 Y T3. PROBLEMA-POTENCIALIDAD'!A41 -> Presencia de 9 fallas geológicas | B41: Problema | C41: 15 | D41: 18 | E41: 15 | F41: 15 | G41: 15 | H41: =IF(SUM(C41:G41)<=100, SUM(C41:G41), "ERROR:La sumatoria debe ser menor o igual a 100") -> 78 | I41: =IF(H41=0,"",IF(H41<33,"BAJA",IF(H41<=66,"MEDIA","ALTA"))) -> ALTA | J41: =IF(I41="Alta",1,IF(I41="Media",1,2)) -> 1
A42: ='T2 Y T3. PROBLEMA-POTENCIALIDAD'!A42 -> Cuenta con áreas boscosas y páramo que ayudan a regular el ciclo hidrológico en la parroquia | B42: Potencialidad | C42: 15 | D42: 15 | E42: 15 | F42: 10 | G42: 10 | H42: =IF(SUM(C42:G42)<=100, SUM(C42:G42), "ERROR:La sumatoria debe ser menor o igual a 100") -> 65 | I42: =IF(H42=0,"",IF(H42<33,"BAJA",IF(H42<=66,"MEDIA","ALTA"))) -> MEDIA | J42: =IF(I42="Alta",1,IF(I42="Media",1,2)) -> 1
A43: ='T2 Y T3. PROBLEMA-POTENCIALIDAD'!A43 -> Centro parroquial dispone de espacios para la implementacion de áreas verdes | B43: Potencialidad | C43: 15 | D43: 15 | E43: 15 | F43: 15 | G43: 15 | H43: =IF(SUM(C43:G43)<=100, SUM(C43:G43), "ERROR:La sumatoria debe ser menor o igual a 100") -> 75 | I43: =IF(H43=0,"",IF(H43<33,"BAJA",IF(H43<=66,"MEDIA","ALTA"))) -> ALTA | J43: =IF(I43="Alta",1,IF(I43="Media",1,2)) -> 1
...

Sheet T6. Prioridad alta-media
A1: Tabla 6. Matriz de potencialidad/problemas con prioridad alta o media con sus desafíos de gestión
A2: Potencialidad/Problema | B2: Prioridad alta y media | C2: Desafío
C3: Desafío de gestión* | D3: Desafío de largo plazo**
A4: =IF('T2 Y T3. PROBLEMA-POTENCIALIDAD'!$A4="","",'T2 Y T3. PROBLEMA-POTENCIALIDAD'!$A4) -> Fuentes de trabajo y empleo reducidas | B4: ='T4 Y T5. PRIORIZACION PROB-POTE'!I4 -> MEDIA | C4: =IFERROR(VLOOKUP(A4,'T2 Y T3. PROBLEMA-POTENCIALIDAD'!$A$4:$F$1017,4,FALSE),"No existe un desafio de gestión definido") -> Gestión el desarrollo de emprendimientos de productores locales | D4: =IFERROR(VLOOKUP(A4,'T2 Y T3. PROBLEMA-POTENCIALIDAD'!$A$4:$F$1017,3,FALSE),"No existe un desafio de largo plazo definido") -> Promoción del trabajo y empleo en la parroquia
A5: =IF('T2 Y T3. PROBLEMA-POTENCIALIDAD'!$A5="","",'T2 Y T3. PROBLEMA-POTENCIALIDAD'!$A5) -> Escasa diversificación de la producción agropecuaria | B5: ='T4 Y T5. PRIORIZACION PROB-POTE'!I5 -> MEDIA | C5: =IFERROR(VLOOKUP(A5,'T2 Y T3. PROBLEMA-POTENCIALIDAD'!$A$4:$F$1017,4,FALSE),"No existe un desafio de gestión definido") -> Gestión un plan productivo parroquial sostenible | D5: =IFERROR(VLOOKUP(A5,'T2 Y T3. PROBLEMA-POTENCIALIDAD'!$A$4:$F$1017,3,FALSE),"No existe un desafio de largo plazo definido") -> Diversificación de la producción de una forma sostenible
A6: =IF('T2 Y T3. PROBLEMA-POTENCIALIDAD'!$A6="","",'T2 Y T3. PROBLEMA-POTENCIALIDAD'!$A6) -> Falta de innovación, iniciativa, liderazgo y desarrollo para diversificación de productos | B6: ='T4 Y T5. PRIORIZACION PROB-POTE'!I6 -> MEDIA | C6: =IFERROR(VLOOKUP(A6,'T2 Y T3. PROBLEMA-POTENCIALIDAD'!$A$4:$F$1017,4,FALSE),"No existe un desafio de gestión definido") -> Gestión con las Instituciones de Educación Superior (IES) y cooperación internacional, proyectos para diversificación de la oferta local | D6: =IFERROR(VLOOKUP(A6,'T2 Y T3. PROBLEMA-POTENCIALIDAD'!$A$4:$F$1017,3,FALSE),"No existe un desafio de largo plazo definido") -> Diversificación de la oferta y producción agropecuaria y de servicios de la parroquia
A7: =IF('T2 Y T3. PROBLEMA-POTENCIALIDAD'!$A7="","",'T2 Y T3. PROBLEMA-POTENCIALIDAD'!$A7) -> Sector productor lechero establecido | B7: ='T4 Y T5. PRIORIZACION PROB-POTE'!I7 -> MEDIA | C7: =IFERROR(VLOOKUP(A7,'T2 Y T3. PROBLEMA-POTENCIALIDAD'!$A$4:$F$1017,4,FALSE),"No existe un desafio de gestión definido") -> Gestión con el GAD provincial para un mecanismo de acopio y comercialización de productos lácteos | D7: =IFERROR(VLOOKUP(A7,'T2 Y T3. PROBLEMA-POTENCIALIDAD'!$A$4:$F$1017,3,FALSE),"No existe un desafio de largo plazo definido") -> Comercialización de los productos lácteos derivados a nivel regional
A8: =IF('T2 Y T3. PROBLEMA-POTENCIALIDAD'!$A8="","",'T2 Y T3. PROBLEMA-POTENCIALIDAD'!$A8) -> Falta de acceso a mercados para comercializar productos | B8: ='T4 Y T5. PRIORIZACION PROB-POTE'!I8 -> MEDIA | C8: =IFERROR(VLOOKUP(A8,'T2 Y T3. PROBLEMA-POTENCIALIDAD'!$A$4:$F$1017,4,FALSE),"No existe un desafio de gestión definido") -> Gestión con el GAD provincial para un mecanismo de acopio y comercialización de productos lácteos | D8: =IFERROR(VLOOKUP(A8,'T2 Y T3. PROBLEMA-POTENCIALIDAD'!$A$4:$F$1017,3,FALSE),"No existe un desafio de largo plazo definido") -> Comercialización de los productos lácteos derivados a nivel regional
A9: =IF('T2 Y T3. PROBLEMA-POTENCIALIDAD'!$A9="","",'T2 Y T3. PROBLEMA-POTENCIALIDAD'!$A9) -> Baja productividad agropecuaria en épocas de verano | B9: ='T4 Y T5. PRIORIZACION PROB-POTE'!I9 -> MEDIA | C9: =IFERROR(VLOOKUP(A9,'T2 Y T3. PROBLEMA-POTENCIALIDAD'!$A$4:$F$1017,4,FALSE),"No existe un desafio de gestión definido") -> Gestión y ampliación de la cobertura y tecnificación de riego | D9: =IFERROR(VLOOKUP(A9,'T2 Y T3. PROBLEMA-POTENCIALIDAD'!$A$4:$F$1017,3,FALSE),"No existe un desafio de largo plazo definido") -> Tecnificación de los usos y sistemas de riego a nivel parroquial
A10: =IF('T2 Y T3. PROBLEMA-POTENCIALIDAD'!$A10="","",'T2 Y T3. PROBLEMA-POTENCIALIDAD'!$A10) -> Limitado número de atractivos y oferta turística desarticulada | B10: ='T4 Y T5. PRIORIZACION PROB-POTE'!I10 -> MEDIA | C10: =IFERROR(VLOOKUP(A10,'T2 Y T3. PROBLEMA-POTENCIALIDAD'!$A$4:$F$1017,4,FALSE),"No existe un desafio de gestión definido") -> Creación de un Plan de desarrollo económico, productivo y turístico | D10: =IFERROR(VLOOKUP(A10,'T2 Y T3. PROBLEMA-POTENCIALIDAD'!$A$4:$F$1017,3,FALSE),"No existe un desafio de largo plazo definido") -> Integración de San Gerardo a un corredor turístico regional
A11: =IF('T2 Y T3. PROBLEMA-POTENCIALIDAD'!$A11="","",'T2 Y T3. PROBLEMA-POTENCIALIDAD'!$A11) -> Ubicación en corredor vial que une atractivos turísticos de alta jerarquía | B11: ='T4 Y T5. PRIORIZACION PROB-POTE'!I11 -> MEDIA | C11: =IFERROR(VLOOKUP(A11,'T2 Y T3. PROBLEMA-POTENCIALIDAD'!$A$4:$F$1017,4,FALSE),"No existe un desafio de gestión definido") -> Creación de un Plan de desarrollo económico, productivo y turístico | D11: =IFERROR(VLOOKUP(A11,'T2 Y T3. PROBLEMA-POTENCIALIDAD'!$A$4:$F$1017,3,FALSE),"No existe un desafio de largo plazo definido") -> Integración de San Gerardo a un corredor turístico regional
A12: =IF('T2 Y T3. PROBLEMA-POTENCIALIDAD'!$A12="","",'T2 Y T3. PROBLEMA-POTENCIALIDAD'!$A12) -> Reducción poblacional por migración y baja tasa de natalidad | B12: ='T4 Y T5. PRIORIZACION PROB-POTE'!I12 -> MEDIA | C12: =IFERROR(VLOOKUP(A12,'T2 Y T3. PROBLEMA-POTENCIALIDAD'!$A$4:$F$1017,4,FALSE),"No existe un desafio de gestión definido") -> Creación de un Plan de desarrollo económico, productivo y turístico | D12: =IFERROR(VLOOKUP(A12,'T2 Y T3. PROBLEMA-POTENCIALIDAD'!$A$4:$F$1017,3,FALSE),"No existe un desafio de largo plazo definido") -> Reducción de la tasa de migración en la parroquia mediante la generación de oportunidades laborales
A13: =IF('T2 Y T3. PROBLEMA-POTENCIALIDAD'!$A13="","",'T2 Y T3. PROBLEMA-POTENCIALIDAD'!$A13) -> Presencia de monocultivos | B13: ='T4 Y T5. PRIORIZACION PROB-POTE'!I13 -> ALTA | C13: =IFERROR(VLOOKUP(A13,'T2 Y T3. PROBLEMA-POTENCIALIDAD'!$A$4:$F$1017,4,FALSE),"No existe un desafio de gestión definido") -> Desarrollo de talleres de fortalecimiento de los sistemas de producción agrícola y la diversificación de los productos en las comunidades | D13: =IFERROR(VLOOKUP(A13,'T2 Y T3. PROBLEMA-POTENCIALIDAD'!$A$4:$F$1017,3,FALSE),"No existe un desafio de largo plazo definido") -> Implementación de estrategias para la diversificación de cultivos y el fortalecimiento de los sistemas de producción agropecuaria.
A14: =IF('T2 Y T3. PROBLEMA-POTENCIALIDAD'!$A14="","",'T2 Y T3. PROBLEMA-POTENCIALIDAD'!$A14) -> Cambio de uso del suelo por avance de la frontera agrícola y pecuaria | B14: ='T4 Y T5. PRIORIZACION PROB-POTE'!I14 -> ALTA | C14: =IFERROR(VLOOKUP(A14,'T2 Y T3. PROBLEMA-POTENCIALIDAD'!$A$4:$F$1017,4,FALSE),"No existe un desafio de gestión definido") -> Desarrollo de un programa de gestión ambiental enfocado en buenas prácticas de producción agrícola y pecuaria y mejoramiento de semillas y pie de cría | D14: =IFERROR(VLOOKUP(A14,'T2 Y T3. PROBLEMA-POTENCIALIDAD'!$A$4:$F$1017,3,FALSE),"No existe un desafio de largo plazo definido") -> Implementación de estrategias para la diversificación de cultivos y el fortalecimiento de los sistemas de producción agropecuaria.
A15: =IF('T2 Y T3. PROBLEMA-POTENCIALIDAD'!$A15="","",'T2 Y T3. PROBLEMA-POTENCIALIDAD'!$A15) -> Los suelos son muy productivos para actividades agrícolas y pecuarias | B15: ='T4 Y T5. PRIORIZACION PROB-POTE'!I15 -> MEDIA | C15: =IFERROR(VLOOKUP(A15,'T2 Y T3. PROBLEMA-POTENCIALIDAD'!$A$4:$F$1017,4,FALSE),"No existe un desafio de gestión definido") -> Gestión de recursos técnicos y económicos para implementar un programa de conservación, restauración y manejo de suelos | D15: =IFERROR(VLOOKUP(A15,'T2 Y T3. PROBLEMA-POTENCIALIDAD'!$A$4:$F$1017,3,FALSE),"No existe un desafio de largo plazo definido") -> Mantenimiento de la productividad de los suelos de la parroquia
... A44: =IF('T2 Y T3. PROBLEMA-POTENCIALIDAD'!$A44="","",'T2 Y T3. PROBLEMA-POTENCIALIDAD'!$A44) -> San Gerardo cuenta con el ABVP El Chorro | B44: ='T4 Y T5. PRIORIZACION PROB-POTE'!I44 -> ALTA | C44: =IFERROR(VLOOKUP(A44,'T2 Y T3. PROBLEMA-POTENCIALIDAD'!$A$4:$F$1017,4,FALSE),"No existe un desafio de gestión definido") -> Formulación y actualización del plan de manejo de áreas protegidas | D44: =IFERROR(VLOOKUP(A44,'T2 Y T3. PROBLEMA-POTENCIALIDAD'!$A$4:$F$1017,3,FALSE),"No existe un desafio de largo plazo definido") -> Conservación de los recursos naturales dentro del área protegida
A45: =IF('T2 Y T3. PROBLEMA-POTENCIALIDAD'!$A45="","",'T2 Y T3. PROBLEMA-POTENCIALIDAD'!$A45) | B45: =IFERROR(VLOOKUP(A45,'T4 Y T5. PRIORIZACION PROB-POTE'!$A$4:$I$1000,9,0),"") | C45: =IFERROR(VLOOKUP(A45,'T2 Y T3. PROBLEMA-POTENCIALIDAD'!$A$4:$F$1017,4,FALSE),"No existe un desafio de gestión definido") -> No existe un desafio de gestión definido | D45: =IFERROR(VLOOKUP(A45,'T2 Y T3. PROBLEMA-POTENCIALIDAD'!$A$4:$F$1017,3,FALSE),"No existe un desafio de largo plazo definido") -> No existe un desafio de largo plazo definido
A46: =IF('T2 Y T3. PROBLEMA-POTENCIALIDAD'!$A46="","",'T2 Y T3. PROBLEMA-POTENCIALIDAD'!$A46) | B46: =IFERROR(VLOOKUP(A46,'T4 Y T5. PRIORIZACION PROB-POTE'!$A$4:$I$1000,9,0),"") | C46: =IFERROR(VLOOKUP(A46,'T2 Y T3. PROBLEMA-POTENCIALIDAD'!$A$4:$F$1017,4,FALSE),"No existe un desafio de gestión definido") -> No existe un desafio de gestión definido | D46: =IFERROR(VLOOKUP(A46,'T2 Y T3. PROBLEMA-POTENCIALIDAD'!$A$4:$F$1017,3,FALSE),"No existe un desafio de largo plazo definido") -> No existe un desafio de largo plazo definido
A47: =IF('T2 Y T3. PROBLEMA-POTENCIALIDAD'!$A47="","",'T2 Y T3. PROBLEMA-POTENCIALIDAD'!$A47) | B47: =IFERROR(VLOOKUP(A47,'T4 Y T5. PRIORIZACION PROB-POTE'!$A$4:$I$1000,9,0),"") | C47: =IFERROR(VLOOKUP(A47,'T2 Y T3. PROBLEMA-POTENCIALIDAD'!$A$4:$F$1017,4,FALSE),"No existe un desafio de gestión definido") -> No existe un desafio de gestión definido | D47: =IFERROR(VLOOKUP(A47,'T2 Y T3. PROBLEMA-POTENCIALIDAD'!$A$4:$F$1017,3,FALSE),"No existe un desafio de largo plazo definido") -> No existe un desafio de largo plazo definido
A48: =IF('T2 Y T3. PROBLEMA-POTENCIALIDAD'!$A48="","",'T2 Y T3. PROBLEMA-POTENCIALIDAD'!$A48) | B48: =IFERROR(VLOOKUP(A48,'T4 Y T5. PRIORIZACION PROB-POTE'!$A$4:$I$1000,9,0),"") | C48: =IFERROR(VLOOKUP(A48,'T2 Y T3. PROBLEMA-POTENCIALIDAD'!$A$4:$F$1017,4,FALSE),"No existe un desafio de gestión definido") -> No existe un desafio de gestión definido | D48: =IFERROR(VLOOKUP(A48,'T2 Y T3. PROBLEMA-POTENCIALIDAD'!$A$4:$F$1017,3,FALSE),"No existe un desafio de largo plazo definido") -> No existe un desafio de largo plazo definido
A49: =IF('T2 Y T3. PROBLEMA-POTENCIALIDAD'!$A49="","",'T2 Y T3. PROBLEMA-POTENCIALIDAD'!$A49) | B49: =IFERROR(VLOOKUP(A49,'T4 Y T5. PRIORIZACION PROB-POTE'!$A$4:$I$1000,9,0),"") | C49: =IFERROR(VLOOKUP(A49,'T2 Y T3. PROBLEMA-POTENCIALIDAD'!$A$4:$F$1017,4,FALSE),"No existe un desafio de gestión definido") -> No existe un desafio de gestión definido | D49: =IFERROR(VLOOKUP(A49,'T2 Y T3. PROBLEMA-POTENCIALIDAD'!$A$4:$F$1017,3,FALSE),"No existe un desafio de largo plazo definido") -> No existe un desafio de largo plazo definido
A50: =IF('T2 Y T3. PROBLEMA-POTENCIALIDAD'!$A50="","",'T2 Y T3. PROBLEMA-POTENCIALIDAD'!$A50) | B50: =IFERROR(VLOOKUP(A50,'T4 Y T5. PRIORIZACION PROB-POTE'!$A$4:$I$1000,9,0),"") | C50: =IFERROR(VLOOKUP(A50,'T2 Y T3. PROBLEMA-POTENCIALIDAD'!$A$4:$F$1017,4,FALSE),"No existe un desafio de gestión definido") -> No existe un desafio de gestión definido | D50: =IFERROR(VLOOKUP(A50,'T2 Y T3. PROBLEMA-POTENCIALIDAD'!$A$4:$F$1017,3,FALSE),"No existe un desafio de largo plazo definido") -> No existe un desafio de largo plazo definido
A51: =IF('T2 Y T3. PROBLEMA-POTENCIALIDAD'!$A51="","",'T2 Y T3. PROBLEMA-POTENCIALIDAD'!$A51) | B51: =IFERROR(VLOOKUP(A51,'T4 Y T5. PRIORIZACION PROB-POTE'!$A$4:$I$1000,9,0),"") | C51: =IFERROR(VLOOKUP(A51,'T2 Y T3. PROBLEMA-POTENCIALIDAD'!$A$4:$F$1017,4,FALSE),"No existe un desafio de gestión definido") -> No existe un desafio de gestión definido | D51: =IFERROR(VLOOKUP(A51,'T2 Y T3. PROBLEMA-POTENCIALIDAD'!$A$4:$F$1017,3,FALSE),"No existe un desafio de largo plazo definido") -> No existe un desafio de largo plazo definido
A52: =IF('T2 Y T3. PROBLEMA-POTENCIALIDAD'!$A52="","",'T2 Y T3. PROBLEMA-POTENCIALIDAD'!$A52) | B52: =IFERROR(VLOOKUP(A52,'T4 Y T5. PRIORIZACION PROB-POTE'!$A$4:$I$1000,9,0),"") | C52: =IFERROR(VLOOKUP(A52,'T2 Y T3. PROBLEMA-POTENCIALIDAD'!$A$4:$F$1017,4,FALSE),"No existe un desafio de gestión definido") -> No existe un desafio de gestión definido | D52: =IFERROR(VLOOKUP(A52,'T2 Y T3. PROBLEMA-POTENCIALIDAD'!$A$4:$F$1017,3,FALSE),"No existe un desafio de largo plazo definido") -> No existe un desafio de largo plazo definido
A53: =IF('T2 Y T3. PROBLEMA-POTENCIALIDAD'!$A53="","",'T2 Y T3. PROBLEMA-POTENCIALIDAD'!$A53) | B53: =IFERROR(VLOOKUP(A53,'T4 Y T5. PRIORIZACION PROB-POTE'!$A$4:$I$1000,9,0),"") | C53: =IFERROR(VLOOKUP(A53,'T2 Y T3. PROBLEMA-POTENCIALIDAD'!$A$4:$F$1017,4,FALSE),"No existe un desafio de gestión definido") -> No existe un desafio de gestión definido | D53: =IFERROR(VLOOKUP(A53,'T2 Y T3. PROBLEMA-POTENCIALIDAD'!$A$4:$F$1017,3,FALSE),"No existe un desafio de largo plazo definido") -> No existe un desafio de largo plazo definido
A54: =IF('T2 Y T3. PROBLEMA-POTENCIALIDAD'!$A82="","",'T2 Y T3. PROBLEMA-POTENCIALIDAD'!$A82) | B54: =IFERROR(VLOOKUP(A54,'T4 Y T5. PRIORIZACION PROB-POTE'!$A$4:$I$1000,9,0),"") | C54: =IFERROR(VLOOKUP(A54,'T2 Y T3. PROBLEMA-POTENCIALIDAD'!$A$4:$F$1017,4,FALSE),"No existe un desafio de gestión definido") -> No existe un desafio de gestión definido | D54: =IFERROR(VLOOKUP(A54,'T2 Y T3. PROBLEMA-POTENCIALIDAD'!$A$4:$F$1017,3,FALSE),"No existe un desafio de largo plazo definido") -> No existe un desafio de largo plazo definido
A55: =IF('T2 Y T3. PROBLEMA-POTENCIALIDAD'!$A83="","",'T2 Y T3. PROBLEMA-POTENCIALIDAD'!$A83) | B55: =IFERROR(VLOOKUP(A55,'T4 Y T5. PRIORIZACION PROB-POTE'!$A$4:$I$1000,9,0),"") | C55: =IFERROR(VLOOKUP(A55,'T2 Y T3. PROBLEMA-POTENCIALIDAD'!$A$4:$F$1017,4,FALSE),"No existe un desafio de gestión definido") -> No existe un desafio de gestión definido | D55: =IFERROR(VLOOKUP(A55,'T2 Y T3. PROBLEMA-POTENCIALIDAD'!$A$4:$F$1017,3,FALSE),"No existe un desafio de largo plazo definido") -> No existe un desafio de largo plazo definido
A56: =IF('T2 Y T3. PROBLEMA-POTENCIALIDAD'!$A84="","",'T2 Y T3. PROBLEMA-POTENCIALIDAD'!$A84) | B56: =IFERROR(VLOOKUP(A56,'T4 Y T5. PRIORIZACION PROB-POTE'!$A$4:$I$1000,9,0),"") | C56: =IFERROR(VLOOKUP(A56,'T2 Y T3. PROBLEMA-POTENCIALIDAD'!$A$4:$F$1017,4,FALSE),"No existe un desafio de gestión definido") -> No existe un desafio de gestión definido | D56: =IFERROR(VLOOKUP(A56,'T2 Y T3. PROBLEMA-POTENCIALIDAD'!$A$4:$F$1017,3,FALSE),"No existe un desafio de largo plazo definido") -> No existe un desafio de largo plazo definido
A57: =IF('T2 Y T3. PROBLEMA-POTENCIALIDAD'!$A85="","",'T2 Y T3. PROBLEMA-POTENCIALIDAD'!$A85) | B57: =IFERROR(VLOOKUP(A57,'T4 Y T5. PRIORIZACION PROB-POTE'!$A$4:$I$1000,9,0),"") | C57: =IFERROR(VLOOKUP(A57,'T2 Y T3. PROBLEMA-POTENCIALIDAD'!$A$4:$F$1017,4,FALSE),"No existe un desafio de gestión definido") -> No existe un desafio de gestión definido | D57: =IFERROR(VLOOKUP(A57,'T2 Y T3. PROBLEMA-POTENCIALIDAD'!$A$4:$F$1017,3,FALSE),"No existe un desafio de largo plazo definido") -> No existe un desafio de largo plazo definido
A58: =IF('T2 Y T3. PROBLEMA-POTENCIALIDAD'!$A86="","",'T2 Y T3. PROBLEMA-POTENCIALIDAD'!$A86) | B58: =IFERROR(VLOOKUP(A58,'T4 Y T5. PRIORIZACION PROB-POTE'!$A$4:$I$1000,9,0),"") | C58: =IFERROR(VLOOKUP(A58,'T2 Y T3. PROBLEMA-POTENCIALIDAD'!$A$4:$F$1017,4,FALSE),"No existe un desafio de gestión definido") -> No existe un desafio de gestión definido | D58: =IFERROR(VLOOKUP(A58,'T2 Y T3. PROBLEMA-POTENCIALIDAD'!$A$4:$F$1017,3,FALSE),"No existe un desafio de largo plazo definido") -> No existe un desafio de largo plazo definido
A59: =IF('T2 Y T3. PROBLEMA-POTENCIALIDAD'!$A87="","",'T2 Y T3. PROBLEMA-POTENCIALIDAD'!$A87) | B59: =IFERROR(VLOOKUP(A59,'T4 Y T5. PRIORIZACION PROB-POTE'!$A$4:$I$1000,9,0),"") | C59: =IFERROR(VLOOKUP(A59,'T2 Y T3. PROBLEMA-POTENCIALIDAD'!$A$4:$F$1017,4,FALSE),"No existe un desafio de gestión definido") -> No existe un desafio de gestión definido | D59: =IFERROR(VLOOKUP(A59,'T2 Y T3. PROBLEMA-POTENCIALIDAD'!$A$4:$F$1017,3,FALSE),"No existe un desafio de largo plazo definido") -> No existe un desafio de largo plazo definido
A60: =IF('T2 Y T3. PROBLEMA-POTENCIALIDAD'!$A88="","",'T2 Y T3. PROBLEMA-POTENCIALIDAD'!$A88) | B60: =IFERROR(VLOOKUP(A60,'T4 Y T5. PRIORIZACION PROB-POTE'!$A$4:$I$1000,9,0),"") | C60: =IFERROR(VLOOKUP(A60,'T2 Y T3. PROBLEMA-POTENCIALIDAD'!$A$4:$F$1017,4,FALSE),"No existe un desafio de gestión definido") -> No existe un desafio de gestión definido | D60: =IFERROR(VLOOKUP(A60,'T2 Y T3. PROBLEMA-POTENCIALIDAD'!$A$4:$F$1017,3,FALSE),"No existe un desafio de largo plazo definido") -> No existe un desafio de largo plazo definido
A61: =IF('T2 Y T3. PROBLEMA-POTENCIALIDAD'!$A89="","",'T2 Y T3. PROBLEMA-POTENCIALIDAD'!$A89) | B61: =IFERROR(VLOOKUP(A61,'T4 Y T5. PRIORIZACION PROB-POTE'!$A$4:$I$1000,9,0),"") | C61: =IFERROR(VLOOKUP(A61,'T2 Y T3. PROBLEMA-POTENCIALIDAD'!$A$4:$F$1017,4,FALSE),"No existe un desafio de gestión definido") -> No existe un desafio de gestión definido | D61: =IFERROR(VLOOKUP(A61,'T2 Y T3. PROBLEMA-POTENCIALIDAD'!$A$4:$F$1017,3,FALSE),"No existe un desafio de largo plazo definido") -> No existe un desafio de largo plazo definido
A62: =IF('T2 Y T3. PROBLEMA-POTENCIALIDAD'!$A90="","",'T2 Y T3. PROBLEMA-POTENCIALIDAD'!$A90) | B62: =IFERROR(VLOOKUP(A62,'T4 Y T5. PRIORIZACION PROB-POTE'!$A$4:$I$1000,9,0),"") | C62: =IFERROR(VLOOKUP(A62,'T2 Y T3. PROBLEMA-POTENCIALIDAD'!$A$4:$F$1017,4,FALSE),"No existe un desafio de gestión definido") -> No existe un desafio de gestión definido | D62: =IFERROR(VLOOKUP(A62,'T2 Y T3. PROBLEMA-POTENCIALIDAD'!$A$4:$F$1017,3,FALSE),"No existe un desafio de largo plazo definido") -> No existe un desafio de largo plazo definido
A63: =IF('T2 Y T3. PROBLEMA-POTENCIALIDAD'!$A91="","",'T2 Y T3. PROBLEMA-POTENCIALIDAD'!$A91) | B63: =IFERROR(VLOOKUP(A63,'T4 Y T5. PRIORIZACION PROB-POTE'!$A$4:$I$1000,9,0),"") | C63: =IFERROR(VLOOKUP(A63,'T2 Y T3. PROBLEMA-POTENCIALIDAD'!$A$4:$F$1017,4,FALSE),"No existe un desafio de gestión definido") -> No existe un desafio de gestión definido | D63: =IFERROR(VLOOKUP(A63,'T2 Y T3. PROBLEMA-POTENCIALIDAD'!$A$4:$F$1017,3,FALSE),"No existe un desafio de largo plazo definido") -> No existe un desafio de largo plazo definido
A64: =IF('T2 Y T3. PROBLEMA-POTENCIALIDAD'!$A92="","",'T2 Y T3. PROBLEMA-POTENCIALIDAD'!$A92) | B64: =IFERROR(VLOOKUP(A64,'T4 Y T5. PRIORIZACION PROB-POTE'!$A$4:$I$1000,9,0),"") | C64: =IFERROR(VLOOKUP(A64,'T2 Y T3. PROBLEMA-POTENCIALIDAD'!$A$4:$F$1017,4,FALSE),"No existe un desafio de gestión definido") -> No existe un desafio de gestión definido | D64: =IFERROR(VLOOKUP(A64,'T2 Y T3. PROBLEMA-POTENCIALIDAD'!$A$4:$F$1017,3,FALSE),"No existe un desafio de largo plazo definido") -> No existe un desafio de largo plazo definido
